BEGIN:VCALENDAR
VERSION:2.0
PRODID:-//Burnett County Democrats - ECPv6.15.18//NONSGML v1.0//EN
CALSCALE:GREGORIAN
METHOD:PUBLISH
X-ORIGINAL-URL:https://burnettcountydemocrats.org
X-WR-CALDESC:Events for Burnett County Democrats
REFRESH-INTERVAL;VALUE=DURATION:PT1H
X-Robots-Tag:noindex
X-PUBLISHED-TTL:PT1H
BEGIN:VTIMEZONE
TZID:UTC
BEGIN:STANDARD
TZOFFSETFROM:+0000
TZOFFSETTO:+0000
TZNAME:UTC
DTSTART:20230101T000000
END:STANDARD
END:VTIMEZONE
BEGIN:VEVENT
DTSTART;VALUE=DATE:20241105
DTEND;VALUE=DATE:20241106
DTSTAMP:20260424T192852
CREATED:20240810T231815Z
LAST-MODIFIED:20240811T001008Z
UID:393-1730764800-1730851199@burnettcountydemocrats.org
SUMMARY:2024 General Election
DESCRIPTION:Tuesday\, November 5 | Nationwide \nVisit myvote.wi.gov for information on your polling location\, voter registration and to see what’s on your ballot.
URL:https://burnettcountydemocrats.org/event/2024-general-election/
LOCATION:WI
CATEGORIES:Election
ATTACH;FMTTYPE=image/webp:https://burnettcountydemocrats.org/wp-content/uploads/2024/08/2_optimized.webp
END:VEVENT
BEGIN:VEVENT
DTSTART;TZID=UTC:20241105T190000
DTEND;TZID=UTC:20241105T220000
DTSTAMP:20260424T192852
CREATED:20241026T160948Z
LAST-MODIFIED:20241026T160948Z
UID:557-1730833200-1730844000@burnettcountydemocrats.org
SUMMARY:Election Night Celebration!
DESCRIPTION:RSVP to burnettcountydems@gmail.com
URL:https://burnettcountydemocrats.org/event/election-night-celebration/
LOCATION:WI
CATEGORIES:Community Event,Election
ATTACH;FMTTYPE=image/jpeg:https://burnettcountydemocrats.org/wp-content/uploads/2024/10/Election-Night-Party.jpg
END:VEVENT
END:VCALENDAR