BEGIN:VCALENDAR
VERSION:2.0
PRODID:-//Burnett County Democrats - ECPv6.15.18//NONSGML v1.0//EN
CALSCALE:GREGORIAN
METHOD:PUBLISH
X-WR-CALNAME:Burnett County Democrats
X-ORIGINAL-URL:https://burnettcountydemocrats.org
X-WR-CALDESC:Events for Burnett County Democrats
REFRESH-INTERVAL;VALUE=DURATION:PT1H
X-Robots-Tag:noindex
X-PUBLISHED-TTL:PT1H
BEGIN:VTIMEZONE
TZID:UTC
BEGIN:STANDARD
TZOFFSETFROM:+0000
TZOFFSETTO:+0000
TZNAME:UTC
DTSTART:20240101T000000
END:STANDARD
END:VTIMEZONE
BEGIN:VEVENT
DTSTART;TZID=UTC:20250515T170000
DTEND;TZID=UTC:20250515T183000
DTSTAMP:20260424T101914
CREATED:20241213T150350Z
LAST-MODIFIED:20241213T150350Z
UID:577-1747328400-1747333800@burnettcountydemocrats.org
SUMMARY:May Meeting
DESCRIPTION:
URL:https://burnettcountydemocrats.org/event/may-meeting/
LOCATION:WI
CATEGORIES:Meeting
ATTACH;FMTTYPE=image/webp:https://burnettcountydemocrats.org/wp-content/uploads/2024/08/BCdems-meetings_optimized.webp
END:VEVENT
END:VCALENDAR