BEGIN:VCALENDAR
VERSION:2.0
PRODID:-//Burnett County Democrats - ECPv6.15.18//NONSGML v1.0//EN
CALSCALE:GREGORIAN
METHOD:PUBLISH
X-WR-CALNAME:Burnett County Democrats
X-ORIGINAL-URL:https://burnettcountydemocrats.org
X-WR-CALDESC:Events for Burnett County Democrats
REFRESH-INTERVAL;VALUE=DURATION:PT1H
X-Robots-Tag:noindex
X-PUBLISHED-TTL:PT1H
BEGIN:VTIMEZONE
TZID:UTC
BEGIN:STANDARD
TZOFFSETFROM:+0000
TZOFFSETTO:+0000
TZNAME:UTC
DTSTART:20250101T000000
END:STANDARD
END:VTIMEZONE
BEGIN:VEVENT
DTSTART;TZID=UTC:20260416T173000
DTEND;TZID=UTC:20260416T190000
DTSTAMP:20260423T181150
CREATED:20260224T201603Z
LAST-MODIFIED:20260409T181457Z
UID:946-1776360600-1776366000@burnettcountydemocrats.org
SUMMARY:Dining with Dems
DESCRIPTION:
URL:https://burnettcountydemocrats.org/event/dining-with-dems-4/
LOCATION:The Salty Steer\, 30799 WI-35\, Danbury\, WI\, 54830\, United States
END:VEVENT
END:VCALENDAR