BEGIN:VCALENDAR
VERSION:2.0
PRODID:-//Burnett County Democrats - ECPv6.15.18//NONSGML v1.0//EN
CALSCALE:GREGORIAN
METHOD:PUBLISH
X-ORIGINAL-URL:https://burnettcountydemocrats.org
X-WR-CALDESC:Events for Burnett County Democrats
REFRESH-INTERVAL;VALUE=DURATION:PT1H
X-Robots-Tag:noindex
X-PUBLISHED-TTL:PT1H
BEGIN:VTIMEZONE
TZID:UTC
BEGIN:STANDARD
TZOFFSETFROM:+0000
TZOFFSETTO:+0000
TZNAME:UTC
DTSTART:20250101T000000
END:STANDARD
END:VTIMEZONE
BEGIN:VEVENT
DTSTART;TZID=UTC:20260422T100000
DTEND;TZID=UTC:20260422T235900
DTSTAMP:20260423T181501
CREATED:20260224T201643Z
LAST-MODIFIED:20260411T205204Z
UID:948-1776852000-1776902340@burnettcountydemocrats.org
SUMMARY:Earth Day Bike Trail Cleaning
DESCRIPTION:Meet at the South-West corner of FF and WI Highway 35
URL:https://burnettcountydemocrats.org/event/earth-day-siren-bike-trail-cleaning/
LOCATION:WI
END:VEVENT
END:VCALENDAR