BEGIN:VCALENDAR
VERSION:2.0
PRODID:-//Burnett County Democrats - ECPv6.15.18//NONSGML v1.0//EN
CALSCALE:GREGORIAN
METHOD:PUBLISH
X-WR-CALNAME:Burnett County Democrats
X-ORIGINAL-URL:https://burnettcountydemocrats.org
X-WR-CALDESC:Events for Burnett County Democrats
REFRESH-INTERVAL;VALUE=DURATION:PT1H
X-Robots-Tag:noindex
X-PUBLISHED-TTL:PT1H
BEGIN:VTIMEZONE
TZID:UTC
BEGIN:STANDARD
TZOFFSETFROM:+0000
TZOFFSETTO:+0000
TZNAME:UTC
DTSTART:20250101T000000
END:STANDARD
END:VTIMEZONE
BEGIN:VEVENT
DTSTART;VALUE=DATE:20260704
DTEND;VALUE=DATE:20260705
DTSTAMP:20260423T211451
CREATED:20260404T170231Z
LAST-MODIFIED:20260404T170231Z
UID:1013-1783123200-1783209599@burnettcountydemocrats.org
SUMMARY:July 4th Parade
DESCRIPTION:
URL:https://burnettcountydemocrats.org/event/july-4th-parade/
LOCATION:WI
END:VEVENT
END:VCALENDAR