BEGIN:VCALENDAR
VERSION:2.0
PRODID:-//Burnett County Democrats - ECPv6.15.18//NONSGML v1.0//EN
CALSCALE:GREGORIAN
METHOD:PUBLISH
X-ORIGINAL-URL:https://burnettcountydemocrats.org
X-WR-CALDESC:Events for Burnett County Democrats
REFRESH-INTERVAL;VALUE=DURATION:PT1H
X-Robots-Tag:noindex
X-PUBLISHED-TTL:PT1H
BEGIN:VTIMEZONE
TZID:UTC
BEGIN:STANDARD
TZOFFSETFROM:+0000
TZOFFSETTO:+0000
TZNAME:UTC
DTSTART:20240101T000000
END:STANDARD
END:VTIMEZONE
BEGIN:VEVENT
DTSTART;TZID=UTC:20251204T180000
DTEND;TZID=UTC:20251204T200000
DTSTAMP:20260425T162532
CREATED:20251023T011937Z
LAST-MODIFIED:20251023T011937Z
UID:620-1764871200-1764878400@burnettcountydemocrats.org
SUMMARY:December Monthly Meeting
DESCRIPTION:Please join us at 6 p.m. for our social\, and at 6:30 p.m. for our business meeting.
URL:https://burnettcountydemocrats.org/event/december-monthly-meeting/
LOCATION:Siren Senior Center\, 23943 Wisconsin 35\, Siren\, WI\, 54872\, United States
CATEGORIES:Meeting
END:VEVENT
BEGIN:VEVENT
DTSTART;TZID=UTC:20260205T180000
DTEND;TZID=UTC:20260205T200000
DTSTAMP:20260425T162532
CREATED:20260126T205051Z
LAST-MODIFIED:20260126T205051Z
UID:738-1770314400-1770321600@burnettcountydemocrats.org
SUMMARY:Burnett County Democrats Main Meeting
DESCRIPTION:
URL:https://burnettcountydemocrats.org/event/burnett-county-democrats-main-meeting/
LOCATION:Siren Senior Center\, 23943 Wisconsin 35\, Siren\, WI\, 54872\, United States
CATEGORIES:Meeting
END:VEVENT
BEGIN:VEVENT
DTSTART;TZID=UTC:20260219T173000
DTEND;TZID=UTC:20260219T193000
DTSTAMP:20260425T162532
CREATED:20260126T205623Z
LAST-MODIFIED:20260204T201100Z
UID:743-1771522200-1771529400@burnettcountydemocrats.org
SUMMARY:Dining with Dems
DESCRIPTION:
URL:https://burnettcountydemocrats.org/event/dining-with-dems-2/
LOCATION:Roundabout Bar and Grill\, 7330 WI-70\, Webster\, WI\, 54893\, United States
CATEGORIES:Meeting
END:VEVENT
END:VCALENDAR