BEGIN:VCALENDAR
VERSION:2.0
PRODID:-//Burnett County Democrats - ECPv6.15.18//NONSGML v1.0//EN
CALSCALE:GREGORIAN
METHOD:PUBLISH
X-WR-CALNAME:Burnett County Democrats
X-ORIGINAL-URL:https://burnettcountydemocrats.org
X-WR-CALDESC:Events for Burnett County Democrats
REFRESH-INTERVAL;VALUE=DURATION:PT1H
X-Robots-Tag:noindex
X-PUBLISHED-TTL:PT1H
BEGIN:VTIMEZONE
TZID:UTC
BEGIN:STANDARD
TZOFFSETFROM:+0000
TZOFFSETTO:+0000
TZNAME:UTC
DTSTART:20230101T000000
END:STANDARD
END:VTIMEZONE
BEGIN:VEVENT
DTSTART;TZID=UTC:20241018T080000
DTEND;TZID=UTC:20241018T170000
DTSTAMP:20260425T002744
CREATED:20241018T181300Z
LAST-MODIFIED:20241018T181300Z
UID:545-1729238400-1729270800@burnettcountydemocrats.org
SUMMARY:Canvass Kick of with WisDems!
DESCRIPTION:
URL:https://burnettcountydemocrats.org/event/canvass-kick-of-with-wisdems/
CATEGORIES:Outreach
ATTACH;FMTTYPE=image/png:https://burnettcountydemocrats.org/wp-content/uploads/2024/10/GoVote-BCDems-1.png
END:VEVENT
END:VCALENDAR