BEGIN:VCALENDAR
VERSION:2.0
PRODID:-//Burnett County Democrats - ECPv6.15.18//NONSGML v1.0//EN
CALSCALE:GREGORIAN
METHOD:PUBLISH
X-ORIGINAL-URL:https://burnettcountydemocrats.org
X-WR-CALDESC:Events for Burnett County Democrats
REFRESH-INTERVAL;VALUE=DURATION:PT1H
X-Robots-Tag:noindex
X-PUBLISHED-TTL:PT1H
BEGIN:VTIMEZONE
TZID:UTC
BEGIN:STANDARD
TZOFFSETFROM:+0000
TZOFFSETTO:+0000
TZNAME:UTC
DTSTART:20250101T000000
END:STANDARD
END:VTIMEZONE
BEGIN:VEVENT
DTSTART;TZID=UTC:20260422T100000
DTEND;TZID=UTC:20260422T235900
DTSTAMP:20260423T195744
CREATED:20260224T201643Z
LAST-MODIFIED:20260411T205204Z
UID:948-1776852000-1776902340@burnettcountydemocrats.org
SUMMARY:Earth Day Bike Trail Cleaning
DESCRIPTION:Meet at the South-West corner of FF and WI Highway 35
URL:https://burnettcountydemocrats.org/event/earth-day-siren-bike-trail-cleaning/
LOCATION:WI
END:VEVENT
BEGIN:VEVENT
DTSTART;TZID=UTC:20260507T180000
DTEND;TZID=UTC:20260507T200000
DTSTAMP:20260423T195744
CREATED:20260224T201826Z
LAST-MODIFIED:20260224T201841Z
UID:953-1778176800-1778184000@burnettcountydemocrats.org
SUMMARY:May Main Meeting
DESCRIPTION:If you have any interest in learning more about the Democratic Party in Burnett County\, want to hear about the issues currently affecting our residents in the county\, the state\, and the country\, find out how you can help further the party’s platform and goals\, or just spend some time in a room where people think the same way you do\, please come to a meeting! The BC Dems meet on the first Thursday of each month at The Siren Senior Community Center–except in January and July. Social time begins at 6:00 pm and the meeting starts at 6:30 pm
URL:https://burnettcountydemocrats.org/event/may-main-meeting/
LOCATION:Siren Senior Center\, 23943 Wisconsin 35\, Siren\, WI\, 54872\, United States
END:VEVENT
BEGIN:VEVENT
DTSTART;VALUE=DATE:20260516
DTEND;VALUE=DATE:20260518
DTSTAMP:20260423T195744
CREATED:20260224T202321Z
LAST-MODIFIED:20260224T202321Z
UID:966-1778889600-1779062399@burnettcountydemocrats.org
SUMMARY:Weekend of Action
DESCRIPTION:
URL:https://burnettcountydemocrats.org/event/weekend-of-action/
LOCATION:WI
END:VEVENT
BEGIN:VEVENT
DTSTART;TZID=UTC:20260521T173000
DTEND;TZID=UTC:20260521T190000
DTSTAMP:20260423T195744
CREATED:20260224T202357Z
LAST-MODIFIED:20260224T202357Z
UID:968-1779384600-1779390000@burnettcountydemocrats.org
SUMMARY:Dining with Dems
DESCRIPTION:
URL:https://burnettcountydemocrats.org/event/dining-with-dems-5/
LOCATION:WI
END:VEVENT
BEGIN:VEVENT
DTSTART;TZID=UTC:20260604T180000
DTEND;TZID=UTC:20260604T200000
DTSTAMP:20260423T195744
CREATED:20260224T201923Z
LAST-MODIFIED:20260224T201923Z
UID:956-1780596000-1780603200@burnettcountydemocrats.org
SUMMARY:June Main Meeting
DESCRIPTION:If you have any interest in learning more about the Democratic Party in Burnett County\, want to hear about the issues currently affecting our residents in the county\, the state\, and the country\, find out how you can help further the party’s platform and goals\, or just spend some time in a room where people think the same way you do\, please come to a meeting! The BC Dems meet on the first Thursday of each month at The Siren Senior Community Center–except in January and July. Social time begins at 6:00 pm and the meeting starts at 6:30 pm
URL:https://burnettcountydemocrats.org/event/june-main-meeting/
LOCATION:Siren Senior Center\, 23943 Wisconsin 35\, Siren\, WI\, 54872\, United States
END:VEVENT
BEGIN:VEVENT
DTSTART;VALUE=DATE:20260704
DTEND;VALUE=DATE:20260705
DTSTAMP:20260423T195744
CREATED:20260404T170231Z
LAST-MODIFIED:20260404T170231Z
UID:1013-1783123200-1783209599@burnettcountydemocrats.org
SUMMARY:July 4th Parade
DESCRIPTION:
URL:https://burnettcountydemocrats.org/event/july-4th-parade/
LOCATION:WI
END:VEVENT
BEGIN:VEVENT
DTSTART;TZID=UTC:20260806T180000
DTEND;TZID=UTC:20260806T200000
DTSTAMP:20260423T195744
CREATED:20260224T201959Z
LAST-MODIFIED:20260224T201959Z
UID:958-1786039200-1786046400@burnettcountydemocrats.org
SUMMARY:August Main Meeting
DESCRIPTION:If you have any interest in learning more about the Democratic Party in Burnett County\, want to hear about the issues currently affecting our residents in the county\, the state\, and the country\, find out how you can help further the party’s platform and goals\, or just spend some time in a room where people think the same way you do\, please come to a meeting! The BC Dems meet on the first Thursday of each month at The Siren Senior Community Center–except in January and July. Social time begins at 6:00 pm and the meeting starts at 6:30 pm
URL:https://burnettcountydemocrats.org/event/august-main-meeting/
LOCATION:Siren Senior Center\, 23943 Wisconsin 35\, Siren\, WI\, 54872\, United States
END:VEVENT
BEGIN:VEVENT
DTSTART;TZID=UTC:20260903T180000
DTEND;TZID=UTC:20260903T200000
DTSTAMP:20260423T195744
CREATED:20260404T170158Z
LAST-MODIFIED:20260404T170158Z
UID:1011-1788458400-1788465600@burnettcountydemocrats.org
SUMMARY:September Main Meeting
DESCRIPTION:If you have any interest in learning more about the Democratic Party in Burnett County\, want to hear about the issues currently affecting our residents in the county\, the state\, and the country\, find out how you can help further the party’s platform and goals\, or just spend some time in a room where people think the same way you do\, please come to a meeting! The BC Dems meet on the first Thursday of each month at The Siren Senior Community Center–except in January and July. Social time begins at 6:00 pm and the meeting starts at 6:30 pm
URL:https://burnettcountydemocrats.org/event/september-main-meeting/
LOCATION:Siren Senior Center\, 23943 Wisconsin 35\, Siren\, WI\, 54872\, United States
END:VEVENT
BEGIN:VEVENT
DTSTART;TZID=UTC:20261001T180000
DTEND;TZID=UTC:20261001T200000
DTSTAMP:20260423T195744
CREATED:20260224T202041Z
LAST-MODIFIED:20260224T202041Z
UID:960-1790877600-1790884800@burnettcountydemocrats.org
SUMMARY:October Main Meeting
DESCRIPTION:If you have any interest in learning more about the Democratic Party in Burnett County\, want to hear about the issues currently affecting our residents in the county\, the state\, and the country\, find out how you can help further the party’s platform and goals\, or just spend some time in a room where people think the same way you do\, please come to a meeting! The BC Dems meet on the first Thursday of each month at The Siren Senior Community Center–except in January and July. Social time begins at 6:00 pm and the meeting starts at 6:30 pm
URL:https://burnettcountydemocrats.org/event/october-main-meeting/
LOCATION:Siren Senior Center\, 23943 Wisconsin 35\, Siren\, WI\, 54872\, United States
END:VEVENT
BEGIN:VEVENT
DTSTART;TZID=UTC:20261105T180000
DTEND;TZID=UTC:20261105T200000
DTSTAMP:20260423T195744
CREATED:20260224T202130Z
LAST-MODIFIED:20260224T202130Z
UID:962-1793901600-1793908800@burnettcountydemocrats.org
SUMMARY:November Main Meeting
DESCRIPTION:If you have any interest in learning more about the Democratic Party in Burnett County\, want to hear about the issues currently affecting our residents in the county\, the state\, and the country\, find out how you can help further the party’s platform and goals\, or just spend some time in a room where people think the same way you do\, please come to a meeting! The BC Dems meet on the first Thursday of each month at The Siren Senior Community Center–except in January and July. Social time begins at 6:00 pm and the meeting starts at 6:30 pm
URL:https://burnettcountydemocrats.org/event/november-main-meeting/
LOCATION:Siren Senior Center\, 23943 Wisconsin 35\, Siren\, WI\, 54872\, United States
END:VEVENT
BEGIN:VEVENT
DTSTART;TZID=UTC:20261203T180000
DTEND;TZID=UTC:20261203T200000
DTSTAMP:20260423T195744
CREATED:20260224T202235Z
LAST-MODIFIED:20260224T202235Z
UID:964-1796320800-1796328000@burnettcountydemocrats.org
SUMMARY:December Main Meeting
DESCRIPTION:If you have any interest in learning more about the Democratic Party in Burnett County\, want to hear about the issues currently affecting our residents in the county\, the state\, and the country\, find out how you can help further the party’s platform and goals\, or just spend some time in a room where people think the same way you do\, please come to a meeting! The BC Dems meet on the first Thursday of each month at The Siren Senior Community Center–except in January and July. Social time begins at 6:00 pm and the meeting starts at 6:30 pm
URL:https://burnettcountydemocrats.org/event/december-main-meeting/
LOCATION:Siren Senior Center\, 23943 Wisconsin 35\, Siren\, WI\, 54872\, United States
END:VEVENT
END:VCALENDAR