BEGIN:VCALENDAR
VERSION:2.0
PRODID:-//Burnett County Democrats - ECPv6.15.18//NONSGML v1.0//EN
CALSCALE:GREGORIAN
METHOD:PUBLISH
X-WR-CALNAME:Burnett County Democrats
X-ORIGINAL-URL:https://burnettcountydemocrats.org
X-WR-CALDESC:Events for Burnett County Democrats
REFRESH-INTERVAL;VALUE=DURATION:PT1H
X-Robots-Tag:noindex
X-PUBLISHED-TTL:PT1H
BEGIN:VTIMEZONE
TZID:UTC
BEGIN:STANDARD
TZOFFSETFROM:+0000
TZOFFSETTO:+0000
TZNAME:UTC
DTSTART:20230101T000000
END:STANDARD
END:VTIMEZONE
BEGIN:VTIMEZONE
TZID:America/Chicago
BEGIN:DAYLIGHT
TZOFFSETFROM:-0600
TZOFFSETTO:-0500
TZNAME:CDT
DTSTART:20230312T080000
END:DAYLIGHT
BEGIN:STANDARD
TZOFFSETFROM:-0500
TZOFFSETTO:-0600
TZNAME:CST
DTSTART:20231105T070000
END:STANDARD
BEGIN:DAYLIGHT
TZOFFSETFROM:-0600
TZOFFSETTO:-0500
TZNAME:CDT
DTSTART:20240310T080000
END:DAYLIGHT
BEGIN:STANDARD
TZOFFSETFROM:-0500
TZOFFSETTO:-0600
TZNAME:CST
DTSTART:20241103T070000
END:STANDARD
BEGIN:DAYLIGHT
TZOFFSETFROM:-0600
TZOFFSETTO:-0500
TZNAME:CDT
DTSTART:20250309T080000
END:DAYLIGHT
BEGIN:STANDARD
TZOFFSETFROM:-0500
TZOFFSETTO:-0600
TZNAME:CST
DTSTART:20251102T070000
END:STANDARD
END:VTIMEZONE
BEGIN:VEVENT
DTSTART;TZID=UTC:20260205T180000
DTEND;TZID=UTC:20260205T200000
DTSTAMP:20260423T232944
CREATED:20260126T205051Z
LAST-MODIFIED:20260126T205051Z
UID:738-1770314400-1770321600@burnettcountydemocrats.org
SUMMARY:Burnett County Democrats Main Meeting
DESCRIPTION:
URL:https://burnettcountydemocrats.org/event/burnett-county-democrats-main-meeting/
LOCATION:Siren Senior Center\, 23943 Wisconsin 35\, Siren\, WI\, 54872\, United States
CATEGORIES:Meeting
END:VEVENT
BEGIN:VEVENT
DTSTART;TZID=UTC:20260124T113000
DTEND;TZID=UTC:20260124T150000
DTSTAMP:20260423T232944
CREATED:20251023T013336Z
LAST-MODIFIED:20251023T013336Z
UID:623-1769254200-1769266800@burnettcountydemocrats.org
SUMMARY:Luncheon with the Candidates
DESCRIPTION:Please join us for chilli with all the toppings\, salad\, desserts\, and great guest speakers such as Fred Clark\, CD-7 candidate.
URL:https://burnettcountydemocrats.org/event/luncheon-with-the-candidates/
LOCATION:Siren Senior Center\, 23943 Wisconsin 35\, Siren\, WI\, 54872\, United States
END:VEVENT
BEGIN:VEVENT
DTSTART;TZID=UTC:20251218T173000
DTEND;TZID=UTC:20251218T190000
DTSTAMP:20260423T232944
CREATED:20251209T234318Z
LAST-MODIFIED:20251209T234318Z
UID:633-1766079000-1766084400@burnettcountydemocrats.org
SUMMARY:Dining with Dems
DESCRIPTION:Join us on the third Thursday of the month\, from 5:30-7:00 pm\, for great conversation over dinner and drinks at local restaurants around Burnett County. You do not need to be a paid member to join us\, and you may bring a guest. Seating is limited: RSVP\, Burnett County Dems at 715-869-6081. Please leave a message with the number of people in your party the Monday before the dinner. \n(This is a pay-for-your-own-dinner event. The next Dining with Dems location will be posted during the first week of the month.)
URL:https://burnettcountydemocrats.org/event/dining-with-dems/
LOCATION:T-Dawgs Bar & Grill\, 429 WI-70\, Grantsburg\, WI\, 54840\, United States
END:VEVENT
BEGIN:VEVENT
DTSTART;TZID=UTC:20251204T180000
DTEND;TZID=UTC:20251204T200000
DTSTAMP:20260423T232944
CREATED:20251023T011937Z
LAST-MODIFIED:20251023T011937Z
UID:620-1764871200-1764878400@burnettcountydemocrats.org
SUMMARY:December Monthly Meeting
DESCRIPTION:Please join us at 6 p.m. for our social\, and at 6:30 p.m. for our business meeting.
URL:https://burnettcountydemocrats.org/event/december-monthly-meeting/
LOCATION:Siren Senior Center\, 23943 Wisconsin 35\, Siren\, WI\, 54872\, United States
CATEGORIES:Meeting
END:VEVENT
BEGIN:VEVENT
DTSTART;TZID=UTC:20251106T180000
DTEND;TZID=UTC:20251106T200000
DTSTAMP:20260423T232944
CREATED:20250602T155030Z
LAST-MODIFIED:20251023T004843Z
UID:603-1762452000-1762459200@burnettcountydemocrats.org
SUMMARY:November Meeting
DESCRIPTION:Please join us for a social time that starts at 6:00 p.m. The actual meeting starts at 6:30 p.m.
URL:https://burnettcountydemocrats.org/event/november-meeting/
LOCATION:Siren Senior Center\, 23943 Wisconsin 35\, Siren\, WI\, 54872\, United States
CATEGORIES:Meeting
ATTACH;FMTTYPE=image/webp:https://burnettcountydemocrats.org/wp-content/uploads/2024/08/BCdems-meetings_optimized.webp
END:VEVENT
BEGIN:VEVENT
DTSTART;TZID=UTC:20251016T183000
DTEND;TZID=UTC:20251016T200000
DTSTAMP:20260423T232944
CREATED:20250602T154957Z
LAST-MODIFIED:20250602T154957Z
UID:601-1760639400-1760644800@burnettcountydemocrats.org
SUMMARY:October Meeting
DESCRIPTION:Join us in Room 160
URL:https://burnettcountydemocrats.org/event/october-meeting/
LOCATION:Burnett County Government Center\, 7410 Co Hwy K\, Siren\, 54872\, United States
CATEGORIES:Meeting
ATTACH;FMTTYPE=image/webp:https://burnettcountydemocrats.org/wp-content/uploads/2024/08/BCdems-meetings_optimized.webp
END:VEVENT
BEGIN:VEVENT
DTSTART;TZID=UTC:20250918T183000
DTEND;TZID=UTC:20250919T200000
DTSTAMP:20260423T232944
CREATED:20250602T154923Z
LAST-MODIFIED:20251023T005547Z
UID:599-1758220200-1758312000@burnettcountydemocrats.org
SUMMARY:September Meeting
DESCRIPTION:Join us in Room 160
URL:https://burnettcountydemocrats.org/event/september-meeting/
LOCATION:Burnett County Government Center\, 7410 Co Hwy K\, Siren\, 54872\, United States
CATEGORIES:Meeting
ATTACH;FMTTYPE=image/webp:https://burnettcountydemocrats.org/wp-content/uploads/2024/08/BCdems-meetings_optimized.webp
END:VEVENT
BEGIN:VEVENT
DTSTART;TZID=UTC:20250821T180000
DTEND;TZID=UTC:20250821T200000
DTSTAMP:20260423T232944
CREATED:20250602T154847Z
LAST-MODIFIED:20250721T195606Z
UID:597-1755799200-1755806400@burnettcountydemocrats.org
SUMMARY:August Meeting
DESCRIPTION:Doors open at 6 p.m. for social. Meeting starts at 6:30 p.m.
URL:https://burnettcountydemocrats.org/event/august-meeting/
LOCATION:Burnett County Government Center\, 7410 Co Hwy K\, Siren\, 54872\, United States
CATEGORIES:Meeting
ATTACH;FMTTYPE=image/webp:https://burnettcountydemocrats.org/wp-content/uploads/2024/08/BCdems-meetings_optimized.webp
END:VEVENT
BEGIN:VEVENT
DTSTART;TZID=UTC:20250717T183000
DTEND;TZID=UTC:20250717T200000
DTSTAMP:20260423T232944
CREATED:20250602T154817Z
LAST-MODIFIED:20250602T154817Z
UID:595-1752777000-1752782400@burnettcountydemocrats.org
SUMMARY:July Meeting
DESCRIPTION:Join us in Room 160
URL:https://burnettcountydemocrats.org/event/july-meeting/
LOCATION:Burnett County Government Center\, 7410 Co Hwy K\, Siren\, 54872\, United States
CATEGORIES:Meeting
ATTACH;FMTTYPE=image/webp:https://burnettcountydemocrats.org/wp-content/uploads/2024/08/BCdems-meetings_optimized.webp
END:VEVENT
BEGIN:VEVENT
DTSTART;TZID=UTC:20250619T183000
DTEND;TZID=UTC:20250619T200000
DTSTAMP:20260423T232944
CREATED:20241213T150415Z
LAST-MODIFIED:20250602T154712Z
UID:579-1750357800-1750363200@burnettcountydemocrats.org
SUMMARY:June Meeting
DESCRIPTION:Join us in Room 160
URL:https://burnettcountydemocrats.org/event/june-meeting/
LOCATION:Burnett County Government Center\, 7410 Co Hwy K\, Siren\, 54872\, United States
CATEGORIES:Meeting
ATTACH;FMTTYPE=image/webp:https://burnettcountydemocrats.org/wp-content/uploads/2024/08/BCdems-meetings_optimized.webp
END:VEVENT
BEGIN:VEVENT
DTSTART;TZID=UTC:20250515T170000
DTEND;TZID=UTC:20250515T183000
DTSTAMP:20260423T232944
CREATED:20241213T150350Z
LAST-MODIFIED:20241213T150350Z
UID:577-1747328400-1747333800@burnettcountydemocrats.org
SUMMARY:May Meeting
DESCRIPTION:
URL:https://burnettcountydemocrats.org/event/may-meeting/
LOCATION:WI
CATEGORIES:Meeting
ATTACH;FMTTYPE=image/webp:https://burnettcountydemocrats.org/wp-content/uploads/2024/08/BCdems-meetings_optimized.webp
END:VEVENT
BEGIN:VEVENT
DTSTART;TZID=UTC:20250417T170000
DTEND;TZID=UTC:20250417T183000
DTSTAMP:20260423T232944
CREATED:20241213T150324Z
LAST-MODIFIED:20241213T150324Z
UID:575-1744909200-1744914600@burnettcountydemocrats.org
SUMMARY:April Meeting
DESCRIPTION:
URL:https://burnettcountydemocrats.org/event/april-meeting/
LOCATION:WI
CATEGORIES:Meeting
ATTACH;FMTTYPE=image/webp:https://burnettcountydemocrats.org/wp-content/uploads/2024/08/BCdems-meetings_optimized.webp
END:VEVENT
BEGIN:VEVENT
DTSTART;VALUE=DATE:20250401
DTEND;VALUE=DATE:20250402
DTSTAMP:20260423T232944
CREATED:20241213T150252Z
LAST-MODIFIED:20241213T150252Z
UID:573-1743465600-1743551999@burnettcountydemocrats.org
SUMMARY:Election Day!
DESCRIPTION:Find more information at MyVoteWI
URL:https://burnettcountydemocrats.org/event/election-day/
LOCATION:WI
CATEGORIES:Election
ATTACH;FMTTYPE=image/webp:https://burnettcountydemocrats.org/wp-content/uploads/2024/08/2_optimized.webp
END:VEVENT
BEGIN:VEVENT
DTSTART;TZID=UTC:20250220T170000
DTEND;TZID=UTC:20250220T183000
DTSTAMP:20260423T232944
CREATED:20241213T150155Z
LAST-MODIFIED:20241213T150155Z
UID:571-1740070800-1740076200@burnettcountydemocrats.org
SUMMARY:March Meeting
DESCRIPTION:
URL:https://burnettcountydemocrats.org/event/march-meeting/
LOCATION:WI
CATEGORIES:Meeting
ATTACH;FMTTYPE=image/webp:https://burnettcountydemocrats.org/wp-content/uploads/2024/08/BCdems-meetings_optimized.webp
END:VEVENT
BEGIN:VEVENT
DTSTART;TZID=UTC:20250220T170000
DTEND;TZID=UTC:20250220T183000
DTSTAMP:20260423T232944
CREATED:20241213T150120Z
LAST-MODIFIED:20241213T150120Z
UID:569-1740070800-1740076200@burnettcountydemocrats.org
SUMMARY:February Meeting
DESCRIPTION:
URL:https://burnettcountydemocrats.org/event/february-meeting/
LOCATION:WI
CATEGORIES:Meeting
ATTACH;FMTTYPE=image/webp:https://burnettcountydemocrats.org/wp-content/uploads/2024/08/BCdems-meetings_optimized.webp
END:VEVENT
BEGIN:VEVENT
DTSTART;TZID=UTC:20250118T120000
DTEND;TZID=UTC:20250118T140000
DTSTAMP:20260423T232944
CREATED:20241213T150003Z
LAST-MODIFIED:20241213T150003Z
UID:565-1737201600-1737208800@burnettcountydemocrats.org
SUMMARY:Appreciation Luncheon
DESCRIPTION:RSVP here: https://forms.gle/rdMqgZd3gC8MkKBRA
URL:https://burnettcountydemocrats.org/event/appreciation-luncheon/
LOCATION:Siren Senior Center\, 23943 Wisconsin 35\, Siren\, WI\, 54872\, United States
CATEGORIES:Community Event
ATTACH;FMTTYPE=image/jpeg:https://burnettcountydemocrats.org/wp-content/uploads/2024/12/Crawford-Event.jpg
END:VEVENT
BEGIN:VEVENT
DTSTART;TZID=UTC:20241121T163000
DTEND;TZID=UTC:20241121T183000
DTSTAMP:20260423T232944
CREATED:20240811T210827Z
LAST-MODIFIED:20240811T211121Z
UID:458-1732206600-1732213800@burnettcountydemocrats.org
SUMMARY:Monthly Meeting
DESCRIPTION:Every Third Thursday | 4:30pm | Trader’s Roundabout \nJoin us every third Thursday of the month for our standing meetings! \n4:30pm – social hour \n5:00pm – meeting/program \n  \nJoin our email list for meeting reminders and agendas.
URL:https://burnettcountydemocrats.org/event/monthly-meeting-4/
LOCATION:WI
CATEGORIES:Meeting
ATTACH;FMTTYPE=image/webp:https://burnettcountydemocrats.org/wp-content/uploads/2024/08/BCdems-meetings_optimized.webp
END:VEVENT
BEGIN:VEVENT
DTSTART;TZID=UTC:20241105T190000
DTEND;TZID=UTC:20241105T220000
DTSTAMP:20260423T232944
CREATED:20241026T160948Z
LAST-MODIFIED:20241026T160948Z
UID:557-1730833200-1730844000@burnettcountydemocrats.org
SUMMARY:Election Night Celebration!
DESCRIPTION:RSVP to burnettcountydems@gmail.com
URL:https://burnettcountydemocrats.org/event/election-night-celebration/
LOCATION:WI
CATEGORIES:Community Event,Election
ATTACH;FMTTYPE=image/jpeg:https://burnettcountydemocrats.org/wp-content/uploads/2024/10/Election-Night-Party.jpg
END:VEVENT
BEGIN:VEVENT
DTSTART;VALUE=DATE:20241105
DTEND;VALUE=DATE:20241106
DTSTAMP:20260423T232944
CREATED:20240810T231815Z
LAST-MODIFIED:20240811T001008Z
UID:393-1730764800-1730851199@burnettcountydemocrats.org
SUMMARY:2024 General Election
DESCRIPTION:Tuesday\, November 5 | Nationwide \nVisit myvote.wi.gov for information on your polling location\, voter registration and to see what’s on your ballot.
URL:https://burnettcountydemocrats.org/event/2024-general-election/
LOCATION:WI
CATEGORIES:Election
ATTACH;FMTTYPE=image/webp:https://burnettcountydemocrats.org/wp-content/uploads/2024/08/2_optimized.webp
END:VEVENT
BEGIN:VEVENT
DTSTART;TZID=UTC:20241101T163000
DTEND;TZID=UTC:20241101T173000
DTSTAMP:20260423T232944
CREATED:20241026T160802Z
LAST-MODIFIED:20241026T160802Z
UID:554-1730478600-1730482200@burnettcountydemocrats.org
SUMMARY:Sign Waving with the BCDems!
DESCRIPTION:Join your fellow proud Burnett County Democrats for a sign waving! \nFriday 11/1 4:30-5:30 at County B x 70 (siren stop light intersection)
URL:https://burnettcountydemocrats.org/event/sign-waving-with-the-bcdems/
LOCATION:Siren\, WI\, Siren\, WI\, 54871\, United States
CATEGORIES:Outreach
ATTACH;FMTTYPE=image/jpeg:https://burnettcountydemocrats.org/wp-content/uploads/2024/10/SignWaving.jpg
END:VEVENT
BEGIN:VEVENT
DTSTART;TZID=UTC:20241018T080000
DTEND;TZID=UTC:20241018T170000
DTSTAMP:20260423T232944
CREATED:20241018T181300Z
LAST-MODIFIED:20241018T181300Z
UID:545-1729238400-1729270800@burnettcountydemocrats.org
SUMMARY:Canvass Kick of with WisDems!
DESCRIPTION:
URL:https://burnettcountydemocrats.org/event/canvass-kick-of-with-wisdems/
LOCATION:WI
CATEGORIES:Outreach
ATTACH;FMTTYPE=image/png:https://burnettcountydemocrats.org/wp-content/uploads/2024/10/GoVote-BCDems-1.png
END:VEVENT
BEGIN:VEVENT
DTSTART;TZID=UTC:20241017T163000
DTEND;TZID=UTC:20241017T183000
DTSTAMP:20260423T232944
CREATED:20240811T210727Z
LAST-MODIFIED:20240811T211034Z
UID:456-1729182600-1729189800@burnettcountydemocrats.org
SUMMARY:Monthly Meeting
DESCRIPTION:Every Third Thursday | 4:30pm | Trader’s Roundabout \nJoin us every third Thursday of the month for our standing meetings! \n4:30pm – social hour \n5:00pm – meeting/program \n  \nJoin our email list for meeting reminders and agendas.
URL:https://burnettcountydemocrats.org/event/monthly-meeting-3/
LOCATION:WI
CATEGORIES:Meeting
ATTACH;FMTTYPE=image/webp:https://burnettcountydemocrats.org/wp-content/uploads/2024/08/BCdems-meetings_optimized.webp
END:VEVENT
BEGIN:VEVENT
DTSTART;TZID=UTC:20241003T170000
DTEND;TZID=UTC:20241003T190000
DTSTAMP:20260423T232944
CREATED:20241001T190759Z
LAST-MODIFIED:20241001T190759Z
UID:538-1727974800-1727982000@burnettcountydemocrats.org
SUMMARY:Dial with Democratics
DESCRIPTION:Bring your laptop and cell phone. \nTraining & friends provided! Located just outside of Siren\, WI. \n \nClick HERE to sign up!
URL:https://burnettcountydemocrats.org/event/dial-with-democratics/
LOCATION:WI
CATEGORIES:Outreach
ATTACH;FMTTYPE=image/png:https://burnettcountydemocrats.org/wp-content/uploads/2024/10/GoVote-BCDems.png
END:VEVENT
BEGIN:VEVENT
DTSTART;TZID=UTC:20241001T190000
DTEND;TZID=UTC:20241001T213000
DTSTAMP:20260423T232944
CREATED:20240921T194716Z
LAST-MODIFIED:20240921T194716Z
UID:526-1727809200-1727818200@burnettcountydemocrats.org
SUMMARY:VP Debate Watch Party
DESCRIPTION:Interested in watching the VP Debate with fellow Dems? We’re always a fun bunch to hang out with. Join us for a social hour before the debate and be ready to cheer on Tim Walz with us! \nWatch party is being held at a private home outside of Siren. Address provided upon RSVP.\nTuesday\, October 1st! RSPV at: https://docs.google.com/…/1Pvk6atlD2wIyZq7L…/edit
URL:https://burnettcountydemocrats.org/event/vp-debate-watch-party/
LOCATION:Siren\, WI\, Siren\, WI\, 54871\, United States
CATEGORIES:Community Event
ATTACH;FMTTYPE=image/jpeg:https://burnettcountydemocrats.org/wp-content/uploads/2024/09/460741800_829581229348274_3057014562892647867_n.jpg
END:VEVENT
BEGIN:VEVENT
DTSTART;TZID=UTC:20240926T173000
DTEND;TZID=UTC:20240926T190000
DTSTAMP:20260423T232944
CREATED:20240824T165655Z
LAST-MODIFIED:20240824T165753Z
UID:493-1727371800-1727377200@burnettcountydemocrats.org
SUMMARY:Political Paint & Sip
DESCRIPTION:RSVP HERE (required)
URL:https://burnettcountydemocrats.org/event/political-paint-sip/
LOCATION:Siren\, WI\, Siren\, WI\, 54871\, United States
CATEGORIES:Community Event,Fundraiser
ATTACH;FMTTYPE=image/png:https://burnettcountydemocrats.org/wp-content/uploads/2024/08/Paint-Sip-2024.png
END:VEVENT
BEGIN:VEVENT
DTSTART;TZID=UTC:20240919T163000
DTEND;TZID=UTC:20240919T183000
DTSTAMP:20260423T232944
CREATED:20240811T210631Z
LAST-MODIFIED:20240811T210949Z
UID:454-1726763400-1726770600@burnettcountydemocrats.org
SUMMARY:Monthly Meeting
DESCRIPTION:Every Third Thursday | 4:30pm | Trader’s Roundabout \nJoin us every third Thursday of the month for our standing meetings! \n4:30pm – social hour \n5:00pm – meeting/program \n  \nJoin our email list for meeting reminders and agendas.
URL:https://burnettcountydemocrats.org/event/monthly-meeting-2/
LOCATION:WI
CATEGORIES:Meeting
ATTACH;FMTTYPE=image/webp:https://burnettcountydemocrats.org/wp-content/uploads/2024/08/BCdems-meetings_optimized.webp
END:VEVENT
BEGIN:VEVENT
DTSTART;TZID=UTC:20240910T193000
DTEND;TZID=UTC:20240910T213000
DTSTAMP:20260423T232944
CREATED:20240824T165502Z
LAST-MODIFIED:20240824T165502Z
UID:488-1725996600-1726003800@burnettcountydemocrats.org
SUMMARY:Debate Watch Party
DESCRIPTION:RSVP HERE (RSVP required)
URL:https://burnettcountydemocrats.org/event/debate-watch-party/
LOCATION:Siren\, WI\, Siren\, WI\, 54871\, United States
CATEGORIES:Community Event
ATTACH;FMTTYPE=image/jpeg:https://burnettcountydemocrats.org/wp-content/uploads/2024/08/Debate-Watch-FB.jpg
END:VEVENT
BEGIN:VEVENT
DTSTART;TZID=UTC:20240905T160000
DTEND;TZID=UTC:20240905T190000
DTSTAMP:20260423T232944
CREATED:20240810T232330Z
LAST-MODIFIED:20240824T164914Z
UID:395-1725552000-1725562800@burnettcountydemocrats.org
SUMMARY:Annual Brat & Bean Feed
DESCRIPTION:Thursday\, September 5\, 2024 | 4pm-7pm (Food served at 5pm) | Crooked Lake Park\, Siren WI \nRSVP HERE\nRSVP is not required\, but will speed up the check-in process: \nFeatured Speakers:\nJane Kleiss – Candidate for 75 th Assembly District\nKim Butler – WisDems Secretary \nUnconfirmed:\nJeanne Bruce – Candidate for 74 th Assembly District\nSusan Crawford – Candidate for Wisconsin Supreme Court\nKyle Kilbourn – Congressional District 7\nMike Decorah – Tribal Liaison\, St. Croix Tribe \nLive Music\nby Fiddle Extraordinaire Carol McDowall \nTickets @ Check-in Table\nFood $15 / person\nBeer/Wine $5 / serving\n(Kids under 12 free) \nPayment (cash or check) at the registration table.\nQuestions? burnettcountydems@gmail.com \nDessert Contest\nBring something sweet to share – attendees get to practice voting for the best entry. Winner gets Blue Ribbon! \n  \nPick up campaign signs.\nParticipate in the Silent Auction.\nSign a Thank You card to President Biden. \nAll proceeds benefit the Burnett County Democratic Party
URL:https://burnettcountydemocrats.org/event/annual-brat-bean-feed/
LOCATION:Crooked Lake Park\, Siren\, Wisconsin\, 54872
CATEGORIES:Community Event,Fundraiser
ATTACH;FMTTYPE=image/webp:https://burnettcountydemocrats.org/wp-content/uploads/2024/08/1_optimized.webp
END:VEVENT
BEGIN:VEVENT
DTSTART;TZID=America/Chicago:20240815T163000
DTEND;TZID=America/Chicago:20240815T183000
DTSTAMP:20260423T232944
CREATED:20240811T210004Z
LAST-MODIFIED:20240811T210530Z
UID:449-1723739400-1723746600@burnettcountydemocrats.org
SUMMARY:Monthly Meeting
DESCRIPTION:Every Third Thursday | 4:30pm | Trader’s Roundabout \nJoin us every third Thursday of the month for our standing meetings! \n4:30pm – social hour \n5:00pm – meeting/program \n  \nJoin our email list for meeting reminders and agendas.
URL:https://burnettcountydemocrats.org/event/monthly-meeting/
LOCATION:WI
CATEGORIES:Meeting
ATTACH;FMTTYPE=image/webp:https://burnettcountydemocrats.org/wp-content/uploads/2024/08/BCdems-meetings_optimized.webp
END:VEVENT
BEGIN:VEVENT
DTSTART;VALUE=DATE:20240813
DTEND;VALUE=DATE:20240814
DTSTAMP:20260423T232944
CREATED:20240810T231624Z
LAST-MODIFIED:20240811T000935Z
UID:391-1723507200-1723593599@burnettcountydemocrats.org
SUMMARY:2024 Partisan Primary
DESCRIPTION:Tuesday\, August 13 | Statewide\nVisit myvote.wi.gov for information on your polling location\, voter registration and to see what’s on your ballot.
URL:https://burnettcountydemocrats.org/event/2024-partisan-primary/
LOCATION:WI
CATEGORIES:Election
ATTACH;FMTTYPE=image/webp:https://burnettcountydemocrats.org/wp-content/uploads/2024/08/2_optimized.webp
END:VEVENT
END:VCALENDAR