BEGIN:VCALENDAR
VERSION:2.0
PRODID:-//Burnett County Democrats - ECPv6.15.18//NONSGML v1.0//EN
CALSCALE:GREGORIAN
METHOD:PUBLISH
X-ORIGINAL-URL:https://burnettcountydemocrats.org
X-WR-CALDESC:Events for Burnett County Democrats
REFRESH-INTERVAL;VALUE=DURATION:PT1H
X-Robots-Tag:noindex
X-PUBLISHED-TTL:PT1H
BEGIN:VTIMEZONE
TZID:UTC
BEGIN:STANDARD
TZOFFSETFROM:+0000
TZOFFSETTO:+0000
TZNAME:UTC
DTSTART:20240101T000000
END:STANDARD
END:VTIMEZONE
BEGIN:VEVENT
DTSTART;TZID=UTC:20251106T180000
DTEND;TZID=UTC:20251106T200000
DTSTAMP:20260424T130731
CREATED:20250602T155030Z
LAST-MODIFIED:20251023T004843Z
UID:603-1762452000-1762459200@burnettcountydemocrats.org
SUMMARY:November Meeting
DESCRIPTION:Please join us for a social time that starts at 6:00 p.m. The actual meeting starts at 6:30 p.m.
URL:https://burnettcountydemocrats.org/event/november-meeting/
LOCATION:Siren Senior Center\, 23943 Wisconsin 35\, Siren\, WI\, 54872\, United States
CATEGORIES:Meeting
ATTACH;FMTTYPE=image/webp:https://burnettcountydemocrats.org/wp-content/uploads/2024/08/BCdems-meetings_optimized.webp
END:VEVENT
END:VCALENDAR