BEGIN:VCALENDAR
VERSION:2.0
PRODID:-//Burnett County Democrats - ECPv6.15.18//NONSGML v1.0//EN
CALSCALE:GREGORIAN
METHOD:PUBLISH
X-WR-CALNAME:Burnett County Democrats
X-ORIGINAL-URL:https://burnettcountydemocrats.org
X-WR-CALDESC:Events for Burnett County Democrats
REFRESH-INTERVAL;VALUE=DURATION:PT1H
X-Robots-Tag:noindex
X-PUBLISHED-TTL:PT1H
BEGIN:VTIMEZONE
TZID:UTC
BEGIN:STANDARD
TZOFFSETFROM:+0000
TZOFFSETTO:+0000
TZNAME:UTC
DTSTART:20240101T000000
END:STANDARD
END:VTIMEZONE
BEGIN:VEVENT
DTSTART;TZID=UTC:20251204T180000
DTEND;TZID=UTC:20251204T200000
DTSTAMP:20260423T230124
CREATED:20251023T011937Z
LAST-MODIFIED:20251023T011937Z
UID:620-1764871200-1764878400@burnettcountydemocrats.org
SUMMARY:December Monthly Meeting
DESCRIPTION:Please join us at 6 p.m. for our social\, and at 6:30 p.m. for our business meeting.
URL:https://burnettcountydemocrats.org/event/december-monthly-meeting/
LOCATION:Siren Senior Center\, 23943 Wisconsin 35\, Siren\, WI\, 54872\, United States
CATEGORIES:Meeting
END:VEVENT
BEGIN:VEVENT
DTSTART;TZID=UTC:20251218T173000
DTEND;TZID=UTC:20251218T190000
DTSTAMP:20260423T230124
CREATED:20251209T234318Z
LAST-MODIFIED:20251209T234318Z
UID:633-1766079000-1766084400@burnettcountydemocrats.org
SUMMARY:Dining with Dems
DESCRIPTION:Join us on the third Thursday of the month\, from 5:30-7:00 pm\, for great conversation over dinner and drinks at local restaurants around Burnett County. You do not need to be a paid member to join us\, and you may bring a guest. Seating is limited: RSVP\, Burnett County Dems at 715-869-6081. Please leave a message with the number of people in your party the Monday before the dinner. \n(This is a pay-for-your-own-dinner event. The next Dining with Dems location will be posted during the first week of the month.)
URL:https://burnettcountydemocrats.org/event/dining-with-dems/
LOCATION:T-Dawgs Bar & Grill\, 429 WI-70\, Grantsburg\, WI\, 54840\, United States
END:VEVENT
END:VCALENDAR